BEGIN:VCALENDAR
VERSION:2.0
PRODID:-//Dampfbetrieb auf 600mm von Mitte April - Mitte Oktober | Verein S
 chinznacher Baumschulbahn//NONSGML kigkonsult.se iCalcreator 2.16.12//
METHOD:PUBLISH
X-MS-OLK-FORCEINSPECTOROPEN:TRUE
BEGIN:VEVENT
UID:20260420T130621CEST-0877ocvMmJ@Dampfbetrieb auf 600mm von Mitte April -
  Mitte Oktober | Verein Schinznacher Baumschulbahn
DTSTAMP:20260420T110621Z
DESCRIPTION:Die Winterpause ist zu Ende. Die Saison 2016 startet am 16. Apr
 il 2016 um 13.00 Uhr.\nNa\, Dampfentzug?\nBis bald in Schinznach.\n\nIhr V
 erein Schinznacher Baumschulbahn
DTSTART:20160416T130000
DTEND:20160416T170000
ORGANIZER:MAILTO:Dampfbetrieb auf 600mm von Mitte April - Mitte Oktober | V
 erein Schinznacher Baumschulbahn <info@schbb.ch>
SUMMARY:Start in die Saison 2016
END:VEVENT
END:VCALENDAR
