BEGIN:VCALENDAR
VERSION:2.0
PRODID:-//Dampfbetrieb auf 600mm von Mitte April - Mitte Oktober | Verein S
 chinznacher Baumschulbahn//NONSGML kigkonsult.se iCalcreator 2.16.12//
METHOD:PUBLISH
X-MS-OLK-FORCEINSPECTOROPEN:TRUE
BEGIN:VEVENT
UID:20260420T130700CEST-8193xNkUMt@Dampfbetrieb auf 600mm von Mitte April -
  Mitte Oktober | Verein Schinznacher Baumschulbahn
DTSTAMP:20260420T110700Z
DESCRIPTION:Wir zeigen Ihnen\, welche Zimmerpflanze\, welchen Standort lieb
  und ihre Vorlieben.
DTSTART:20160113T140000
DTEND:20160113T133000
ORGANIZER:MAILTO:Dampfbetrieb auf 600mm von Mitte April - Mitte Oktober | V
 erein Schinznacher Baumschulbahn <info@schbb.ch>
SUMMARY:Auswahl und Pflege von Zimmerpflanzen
END:VEVENT
END:VCALENDAR
