BEGIN:VCALENDAR
VERSION:2.0
PRODID:-//Dampfbetrieb auf 600mm von Mitte April - Mitte Oktober | Verein S
 chinznacher Baumschulbahn//NONSGML kigkonsult.se iCalcreator 2.16.12//
METHOD:PUBLISH
X-MS-OLK-FORCEINSPECTOROPEN:TRUE
BEGIN:VEVENT
UID:20260420T130754CEST-4471VVUuBE@Dampfbetrieb auf 600mm von Mitte April -
  Mitte Oktober | Verein Schinznacher Baumschulbahn
DTSTAMP:20260420T110754Z
DESCRIPTION:Wissen Sie wie man die verschiedenen
DTSTART:20160112T140000
DTEND:20160112T140000
ORGANIZER:MAILTO:Dampfbetrieb auf 600mm von Mitte April - Mitte Oktober | V
 erein Schinznacher Baumschulbahn <info@schbb.ch>
SUMMARY:Beerensträucherschnitt und -pflege
END:VEVENT
END:VCALENDAR
