BEGIN:VCALENDAR
VERSION:2.0
PRODID:-//Dampfbetrieb auf 600mm von Mitte April - Mitte Oktober | Verein S
 chinznacher Baumschulbahn//NONSGML kigkonsult.se iCalcreator 2.16.12//
METHOD:PUBLISH
X-MS-OLK-FORCEINSPECTOROPEN:TRUE
BEGIN:VEVENT
UID:20260420T120106CEST-20018DZ1En@Dampfbetrieb auf 600mm von Mitte April -
  Mitte Oktober | Verein Schinznacher Baumschulbahn
DTSTAMP:20260420T100106Z
DESCRIPTION:Nach einer ungeplant langen Revision des Kessels\, des Fahrwerk
 es und von Armaturen ist die Dampflok Emma seit diesem Sommer endlich wied
 er betriebsfähig. Das Saisonende 2025 vom 11. und 12. Oktober nehmen wir a
 ls Gelegenheit\, den 100. Geburtstag der Emma gebührend zu feiern. Unsere 
 kleinste Dampflok wird an diesem Wochenende vor einem zusätzlichen Zug zum
  Einsatz kommen. \n\nBitte beachten Sie\, dass die Dampflok Emma nur zwei 
 Wagen durch die Baumschule ziehen mag. Die 40 Plätze können schnell belegt
  sein. Es kann daher zu Wartezeiten kommen.
DTSTART:20251011T130000
DTEND:20251011T160000
ORGANIZER:MAILTO:Dampfbetrieb auf 600mm von Mitte April - Mitte Oktober | V
 erein Schinznacher Baumschulbahn <info@schbb.ch>
SUMMARY:100 Jahre Emma
END:VEVENT
END:VCALENDAR
