BEGIN:VCALENDAR
VERSION:2.0
PRODID:-//Dampfbetrieb auf 600mm von Mitte April - Mitte Oktober | Verein S
 chinznacher Baumschulbahn//NONSGML kigkonsult.se iCalcreator 2.16.12//
METHOD:PUBLISH
X-MS-OLK-FORCEINSPECTOROPEN:TRUE
BEGIN:VEVENT
UID:20260420T115817CEST-3708d8h4GA@Dampfbetrieb auf 600mm von Mitte April -
  Mitte Oktober | Verein Schinznacher Baumschulbahn
DTSTAMP:20260420T095817Z
DESCRIPTION:Die Schinznacher Baumschulbahn betreibt aktuell sechs betriebsf
 ähige Dampflokomotiven. Wie eine Dampflokomotive funktioniert und was es d
 azu braucht\, dass sie durch die Baumschule fahren kann\, erfahren Sie in 
 diesem exklusiven Blick hinter die Kulissen. Nach dem Fachvortrag erleben 
 Sie im Anschluss live eine der Dampflokomotiven im Betrieb.\n\nIm Preis in
 begriffen sind Kurskosten und eine Bahnfahrt\n
DTSTART:20250621T140000
DTEND:20250621T160000
LOCATION:Zulauf AG
ORGANIZER:MAILTO:Dampfbetrieb auf 600mm von Mitte April - Mitte Oktober | V
 erein Schinznacher Baumschulbahn <info@schbb.ch>
SUMMARY:Wie funktioniert eine Dampflokomotive?
END:VEVENT
END:VCALENDAR
