BEGIN:VCALENDAR
VERSION:2.0
PRODID:-//Dampfbetrieb auf 600mm von Mitte April - Mitte Oktober | Verein S
 chinznacher Baumschulbahn//NONSGML kigkonsult.se iCalcreator 2.16.12//
METHOD:PUBLISH
X-MS-OLK-FORCEINSPECTOROPEN:TRUE
BEGIN:VEVENT
UID:20260420T131116CEST-3448vbNATI@Dampfbetrieb auf 600mm von Mitte April -
  Mitte Oktober | Verein Schinznacher Baumschulbahn
DTSTAMP:20260420T111116Z
DESCRIPTION:Es tut uns sehr leid\, Ihnen mitteilen zu müssen\, dass der Nor
 dpol-Express in diesem Jahr leider nicht stattfinden wird. Obwohl wir bere
 its alle Vorbereitungen für dieses zauberhafte Bahnabenteuer getroffen hat
 ten und viele Gäste sich auf eine Reise durch die Winterwelt gefreut hatte
 n\, sehen wir uns gezwungen\, diese Tradition in diesem Jahr nicht fortzus
 etzen.\n\n\n\nStattdessen möchten wir Sie herzlich zu unserem Adventsdampf
  am Samstag\, den 25. November 2023\, einladen. Wir arbeiten derzeit an de
 n Details für dieses besondere Event und werden Ihnen ca. einen Monat vorh
 er weitere Informationen dazu zukommen lassen. Wir hoffen\, dass Sie trotz
  der Absage des Nordpol-Expresses den Advent mit uns genießen werden.
DTSTART:20231201T150000
DTEND:20231201T170000
ORGANIZER:MAILTO:Dampfbetrieb auf 600mm von Mitte April - Mitte Oktober | V
 erein Schinznacher Baumschulbahn <info@schbb.ch>
SUMMARY:Kein Nordpol Express 2023
END:VEVENT
END:VCALENDAR
