BEGIN:VCALENDAR
VERSION:2.0
PRODID:-//Dampfbetrieb auf 600mm von Mitte April - Mitte Oktober | Verein S
 chinznacher Baumschulbahn//NONSGML kigkonsult.se iCalcreator 2.16.12//
METHOD:PUBLISH
X-MS-OLK-FORCEINSPECTOROPEN:TRUE
BEGIN:VEVENT
UID:20260420T130755CEST-1145UCjrkU@Dampfbetrieb auf 600mm von Mitte April -
  Mitte Oktober | Verein Schinznacher Baumschulbahn
DTSTAMP:20260420T110755Z
DESCRIPTION:\n\nEinweihung der frisch restaurierten Kipploren\nFeldbahnzüge
  mit Dampf- und Dieselloks\nFahrplanmässige Personenzüge mit Dampflok von 
 13.00 bis 17.00
DTSTART:20230617T130000
DTEND:20230617T170000
ORGANIZER:MAILTO:Dampfbetrieb auf 600mm von Mitte April - Mitte Oktober | V
 erein Schinznacher Baumschulbahn <info@schbb.ch>
SUMMARY:45 Jahre Schinznacher Baumschulbahn
END:VEVENT
END:VCALENDAR
