BEGIN:VCALENDAR
VERSION:2.0
PRODID:-//Dampfbetrieb auf 600mm von Mitte April - Mitte Oktober | Verein S
 chinznacher Baumschulbahn//NONSGML kigkonsult.se iCalcreator 2.16.12//
METHOD:PUBLISH
X-MS-OLK-FORCEINSPECTOROPEN:TRUE
BEGIN:VEVENT
UID:20260420T131004CEST-875475vlrZ@Dampfbetrieb auf 600mm von Mitte April -
  Mitte Oktober | Verein Schinznacher Baumschulbahn
DTSTAMP:20260420T111004Z
DESCRIPTION:
DTSTART:20220801T000000
DTEND:20220801T235900
ORGANIZER:MAILTO:Dampfbetrieb auf 600mm von Mitte April - Mitte Oktober | V
 erein Schinznacher Baumschulbahn <info@schbb.ch>
SUMMARY:Nationalfeiertag
END:VEVENT
END:VCALENDAR
