BEGIN:VCALENDAR
VERSION:2.0
PRODID:-//Dampfbetrieb auf 600mm von Mitte April - Mitte Oktober | Verein S
 chinznacher Baumschulbahn//NONSGML kigkonsult.se iCalcreator 2.16.12//
METHOD:PUBLISH
X-MS-OLK-FORCEINSPECTOROPEN:TRUE
BEGIN:VEVENT
UID:20260420T130831CEST-1563GjKd2j@Dampfbetrieb auf 600mm von Mitte April -
  Mitte Oktober | Verein Schinznacher Baumschulbahn
DTSTAMP:20260420T110831Z
DESCRIPTION:Die Baumschulbahn dreht während drei Wochen in der Adventszeit 
 am Mittwoch- und Freitagnachmittag ihre Runden. Die Fahrt mit der Diesello
 k durch den Park ist immer wieder ein tolles Erlebnis. Einfach warm anzieh
 en\, einsteigen und losfahren. Eine prima Ergänzung für einen Besuch am Ch
 ristkindmarkt! Nach einer Rundfahrt wird einem beim Basteln im Gartencente
 r wieder wunderbar warm.\n\n\nDie Baumschulbahn ist jeweils am Mittwoch- u
 nd Freitagnachmittag von 13.30 bis 16.00 unterwegs\, und zwar am 25. und 2
 7. November\, 2. und 4. Dezember und 9. und 11. Dezember.\nBitte beachten 
 Sie die Verpflegungsmöglichkeit der Zulauf AG.\nEs gelten die Preise 'Dies
 elfahrten' für die Rundfahrt.\n\n*** Bitte beachten Sie\, dass Platzreserv
 ierungen nicht möglich sind ***\n 
DTSTART:20201202T133000
DTEND:20201202T160000
ORGANIZER:MAILTO:Dampfbetrieb auf 600mm von Mitte April - Mitte Oktober | V
 erein Schinznacher Baumschulbahn <info@schbb.ch>
SUMMARY:Adventsfahrten mit der Diesellokomotive
END:VEVENT
END:VCALENDAR
