BEGIN:VCALENDAR
VERSION:2.0
PRODID:-//Dampfbetrieb auf 600mm von Mitte April - Mitte Oktober | Verein S
 chinznacher Baumschulbahn//NONSGML kigkonsult.se iCalcreator 2.16.12//
METHOD:PUBLISH
X-MS-OLK-FORCEINSPECTOROPEN:TRUE
BEGIN:VEVENT
UID:20260420T131122CEST-2220Vu1uwW@Dampfbetrieb auf 600mm von Mitte April -
  Mitte Oktober | Verein Schinznacher Baumschulbahn
DTSTAMP:20260420T111122Z
DESCRIPTION:Wenn die Lokomotive durch den stillen\, hoffentlich weiss versc
 hneiten Park dampft und ihren Rauch in den Himmel pufft\, wird der Advent 
 erst so richtig zu einem besonderen Erlebnis! Und weil dieses Jahr alles e
 twas anders ist\, gibt es gleich an drei Samstagen alle 30 Minuten eine sc
 hnaubende Dampfbahnfahrt durch den schönen Baumschulpark.\n\n\n\nSamstag\,
  28. November\, 5. und 12. Dezember\, 11 bis 12 Uhr und 13 bis 17 Uhr\nBit
 te beachten Sie die Verpflegungsmöglichkeit der Zulauf AG.\nEs gelten die 
 Preise 'Damfbahnfahrten' für die Rundfahrt.\n\n*** Bitte beachten Sie\, da
 ss Platzreservierungen nicht möglich sind ***
DTSTART:20201205T110000
DTEND:20201205T170000
ORGANIZER:MAILTO:Dampfbetrieb auf 600mm von Mitte April - Mitte Oktober | V
 erein Schinznacher Baumschulbahn <info@schbb.ch>
SUMMARY:Adventsdampf 2020
END:VEVENT
END:VCALENDAR
