BEGIN:VCALENDAR
VERSION:2.0
PRODID:-//Dampfbetrieb auf 600mm von Mitte April - Mitte Oktober | Verein S
 chinznacher Baumschulbahn//NONSGML kigkonsult.se iCalcreator 2.16.12//
METHOD:PUBLISH
X-MS-OLK-FORCEINSPECTOROPEN:TRUE
BEGIN:VEVENT
UID:20260420T130906CEST-6904As9GHf@Dampfbetrieb auf 600mm von Mitte April -
  Mitte Oktober | Verein Schinznacher Baumschulbahn
DTSTAMP:20260420T110906Z
DESCRIPTION:Am Nationalfeiertag der Schweiz findet kein Bahnbetrieb statt.
 \nWir wünschen allen eine schöne Bundesfeier.\nGerne sind wir ab dem 02. A
 ugust wieder für Sie da.\n\nIhr Verein Schinznacher Baumschulbahn\n 
DTSTART:20200801T000000
DTEND:20200801T235500
ORGANIZER:MAILTO:Dampfbetrieb auf 600mm von Mitte April - Mitte Oktober | V
 erein Schinznacher Baumschulbahn <info@schbb.ch>
SUMMARY:Nationalfeiertag - Kein Bahnbetrieb
END:VEVENT
END:VCALENDAR
