BEGIN:VCALENDAR
VERSION:2.0
PRODID:-//Dampfbetrieb auf 600mm von Mitte April - Mitte Oktober | Verein S
 chinznacher Baumschulbahn//NONSGML kigkonsult.se iCalcreator 2.16.12//
METHOD:PUBLISH
X-MS-OLK-FORCEINSPECTOROPEN:TRUE
BEGIN:VEVENT
UID:20260420T131035CEST-425028VphM@Dampfbetrieb auf 600mm von Mitte April -
  Mitte Oktober | Verein Schinznacher Baumschulbahn
DTSTAMP:20260420T111035Z
DESCRIPTION:Bitte beachten Sie\, dass keine Züge verkehren an Ostern.\nSonn
 tag 21.04.2019 - Kein Bahnbetrieb\nMontag 22.04.2019 - Kein Bahnbetrieb\nG
 erne sind wir am Samstag 27.04.2019 wieder für Sie da.\n 
DTSTART:20190421T000000
DTEND:20190422T235900
ORGANIZER:MAILTO:Dampfbetrieb auf 600mm von Mitte April - Mitte Oktober | V
 erein Schinznacher Baumschulbahn <info@schbb.ch>
SUMMARY:Kein Bahnbetrieb - Ostern
END:VEVENT
END:VCALENDAR
