BEGIN:VCALENDAR
VERSION:2.0
PRODID:-//Dampfbetrieb auf 600mm von Mitte April - Mitte Oktober | Verein S
 chinznacher Baumschulbahn//NONSGML kigkonsult.se iCalcreator 2.16.12//
METHOD:PUBLISH
X-MS-OLK-FORCEINSPECTOROPEN:TRUE
BEGIN:VEVENT
UID:20260420T144845CEST-3691VtxpKI@Dampfbetrieb auf 600mm von Mitte April -
  Mitte Oktober | Verein Schinznacher Baumschulbahn
DTSTAMP:20260420T124845Z
DESCRIPTION:Wenn der Winter mit kalten Tagen und Nächten Einzug gehalten ha
 t\, die Bäume im Baumschulpark schön beleuchtet sind\, das Weihnachtsdorf 
 mit vielen Überraschungen gefüllt ist und der Samichlaus und die Schmutzli
 s auf viele Gäste warten\, dann ist der Nordpol-Express wieder unterwegs! 
 \nBeleuchtete Bäume und Feuerwerk\nIm Gartencenter dürfen alle Kinder beim
  Schmutzli ein Geschenk abholen. Danach hört man bald einen Pfiff im Bahnh
 of\, der heisst: Oha\, jetzt aber einsteigen! Die schnau-bende Lokomotive 
 bringt uns in eine verzauberte Lichterwelt! Die Bäume leuchten und ein her
 rliches Feuerwerk spiegelt sich im See.\n\nEs duftet fein im Weihnachtsdor
 f\nSchwer stampfend fährt die Loki im grossen Gewächshaus ein. Endstation\
 , alles aussteigen und staunen. Denn hier erwartet euch eine Schar ganz be
 sonderer Gäste: Der Samichlaus und die lustigen Alpakas freuen sich auf Be
 such. Es gibt für alle ein Brötli und ein Getränk\, bei der Märlifrau gibt
 s spannende Geschichten zu hören und die Artistin ist bereit für lustige S
 pässe.\n\nTickets unbedingt vorbestellen\nBitte reservieren Sie Ihre Fahrp
 lätze frühzeitig! Wenn Sie unsere ganze Weihnachtswelt an einem Tag erlebe
 n möchten\, geniessen Sie den Christkindmarkt und die Eisbahn am besten vo
 r der Zugfahrt.\n\nAblauf und Zeiten\nStart jeweils um 15.30\, 16.00\, 16.
 30 oder 17.00 Uhr bei der Ticketkasse im Gartencenter\, danach holen die K
 inder bei den Schmutzlis ein Geschenk ab und für Erwachsene gibts einen We
 ttbewerb. Eine halbe Stunde nach der Startzeit fährt der Nordpol-Express i
 m Bahnhof los auf die rund 15-minütige Fahrt. Die Rückfahrten finden um 16
 .45\, 17.15\, 17.45\, 18.15 und 18.25 Uhr statt. Warme Kleider nicht verge
 ssen!\n\n\n\n 
DTSTART:20181130T150000
DTEND:20181130T180000
LOCATION:Schinznach Dorf
ORGANIZER:MAILTO:Dampfbetrieb auf 600mm von Mitte April - Mitte Oktober | V
 erein Schinznacher Baumschulbahn <info@schbb.ch>
SUMMARY:Nordpol-Express 2018
END:VEVENT
END:VCALENDAR
