BEGIN:VCALENDAR
VERSION:2.0
PRODID:-//Dampfbetrieb auf 600mm von Mitte April - Mitte Oktober | Verein S
 chinznacher Baumschulbahn//NONSGML kigkonsult.se iCalcreator 2.16.12//
METHOD:PUBLISH
X-MS-OLK-FORCEINSPECTOROPEN:TRUE
BEGIN:VEVENT
UID:20260420T150443CEST-43125uVWVJ@Dampfbetrieb auf 600mm von Mitte April -
  Mitte Oktober | Verein Schinznacher Baumschulbahn
DTSTAMP:20260420T130443Z
DESCRIPTION:Der Sonntag\, 13. Mai\, ist ganz speziell reserviert für alle M
 ütter. Kommen Sie mit Ihren Familien zu uns und lassen Sie sich feiern.\nB
 runchen nach Herzenslust\nFreuen Sie sich auf ein speziell reichhaltiges u
 nd festliches Zmorgebuffet: verschiedene Brote und Zopf\, pikante Leckerei
 en wie Rauchlachs\, diverse Sorten Aufschnitt\, Speck und Rührei\, heisser
  Schinken und Kartoffelsalat bis hin zu frischen Früchten\, Joghurt\, Birc
 hermüesli\, hausgemachten Wähen und feinen Getränken. En Guete!\n\nSpass f
 ür die Kinder\nIhre Kinder und Enkelkinder können sich gleich neben dem Ba
 umschul-Café auf dem gedeckten Spielplatz vergnügen.\n\nAlles in allem:\nB
 runch\, Getränke und Fahrt auf der Baumschulbahn\nPreis Erwachsene: Fr. 49
 .-Preis Kinder (3-12 Jahre): Fr. 17 .-\nUnbedingt reservieren! Die Teilneh
 merzahl ist beschränkt\, buchen Sie darum rechtzeitig unter www.zulaufquel
 le.ch.\n\nWir freuen uns auf tolle Familien-Sonntage mit Ihnen!\n\n 
DTSTART:20180513T103000
DTEND:20180513T133000
ORGANIZER:MAILTO:Dampfbetrieb auf 600mm von Mitte April - Mitte Oktober | V
 erein Schinznacher Baumschulbahn <info@schbb.ch>
SUMMARY:Muttertagsbrunch
END:VEVENT
END:VCALENDAR
