BEGIN:VCALENDAR
VERSION:2.0
PRODID:-//Dampfbetrieb auf 600mm von Mitte April - Mitte Oktober | Verein S
 chinznacher Baumschulbahn//NONSGML kigkonsult.se iCalcreator 2.16.12//
METHOD:PUBLISH
X-MS-OLK-FORCEINSPECTOROPEN:TRUE
BEGIN:VEVENT
UID:20260420T150518CEST-3460eHu0nh@Dampfbetrieb auf 600mm von Mitte April -
  Mitte Oktober | Verein Schinznacher Baumschulbahn
DTSTAMP:20260420T130518Z
DESCRIPTION:Die Dampflok Lukas – eine sogenannte Tramlokomotive – wurde 191
 8 in Drewitz bei Berlin gebaut\, kam 1968 in die Schweiz und 2001 nach Sch
 inznach-Dorf\, wo sie ab 2014 in die Einzelteile zerlegt und revidiert wur
 de. Seither dreht sie bei uns ihre Runden durch den Park. Die Lukas freut 
 sich natürlich auf viele Fans\, die mit ihr Geburtstag feiern.\n
DTSTART:20181014T133000
DTEND:20181014T170000
ORGANIZER:MAILTO:Dampfbetrieb auf 600mm von Mitte April - Mitte Oktober | V
 erein Schinznacher Baumschulbahn <info@schbb.ch>
SUMMARY:100 Jahre Dampflokomotive Lukas
END:VEVENT
END:VCALENDAR
