BEGIN:VCALENDAR
VERSION:2.0
PRODID:-//Dampfbetrieb auf 600mm von Mitte April - Mitte Oktober | Verein S
 chinznacher Baumschulbahn//NONSGML kigkonsult.se iCalcreator 2.16.12//
METHOD:PUBLISH
X-MS-OLK-FORCEINSPECTOROPEN:TRUE
BEGIN:VEVENT
UID:20260420T151352CEST-91326Ur7PV@Dampfbetrieb auf 600mm von Mitte April -
  Mitte Oktober | Verein Schinznacher Baumschulbahn
DTSTAMP:20260420T131352Z
DESCRIPTION:Feiern Sie mit uns zusammen die Schinznacher Baumschulbahn! Wir
  freuen uns natürlich auf viele Gäste vom Enkel bis zur Grossmutter. Für d
 ie Kleinen gibts eine Gartenbahn zum Herumkurven\, eine Schminkecke und we
 itere Überraschungen. Natürlich kommt auch die Kulinarik in der Festbeiz n
 icht zu kurz und die Bahnfahrten durch den Park kosten soviel wie vor 40 J
 ahren. Hereinspaziert!\n
DTSTART:20180922T110000
DTEND:20180922T170000
ORGANIZER:MAILTO:Dampfbetrieb auf 600mm von Mitte April - Mitte Oktober | V
 erein Schinznacher Baumschulbahn <info@schbb.ch>
SUMMARY:Mehrzugbetrieb 2018 - Fest 40 Jahre Baumschulbahn
END:VEVENT
END:VCALENDAR
