BEGIN:VCALENDAR
VERSION:2.0
PRODID:-//Dampfbetrieb auf 600mm von Mitte April - Mitte Oktober | Verein S
 chinznacher Baumschulbahn//NONSGML kigkonsult.se iCalcreator 2.16.12//
METHOD:PUBLISH
X-MS-OLK-FORCEINSPECTOROPEN:TRUE
BEGIN:VEVENT
UID:20260420T145955CEST-1945gdem9s@Dampfbetrieb auf 600mm von Mitte April -
  Mitte Oktober | Verein Schinznacher Baumschulbahn
DTSTAMP:20260420T125955Z
DESCRIPTION:Erleben Sie die spannenden Abenteuer von Lukas\, dem Lokomotivf
 ührer\, seiner treuen Lokomotive Emma und von seinem besten Freund Jim Kno
 pf. Die Reise führt von der winzigen Insel Lummerland hinaus in die weite 
 Welt und bis nach China. Dabei begegnen ihnen Drachen\, Scheinriesen und v
 iele andere wunderliche Gestalten. \n\n\n\nDas Kindermusical von Jörg Schn
 eider nach dem gleichnamigen Buch von Michael Ende findet im Gewächshaus s
 tatt. Es dauert 1\,5 Std. (mit einer Pause von ca. 15 Minuten) und ist für
  Kinder ab 4 Jahren geeignet. Die Bahnfahrt kann vor oder nach der Aufführ
 ung oder an einem anderen Tag dieses Jahres eingelöst werden. An den beide
 n Aufführungstagen fahren zwei Züge\, dabei ist natürlich auch unsere Damp
 flok «Emma».\nKinder ab 4 Jahren und Erwachsene Fr. 18.–\, Anmeldung auf w
 ww.zulaufquelle.ch. 
DTSTART:20180630T133000
DTEND:20180630T153000
ORGANIZER:MAILTO:Dampfbetrieb auf 600mm von Mitte April - Mitte Oktober | V
 erein Schinznacher Baumschulbahn <info@schbb.ch>
SUMMARY:Jim Knopf und Lukas der Lokomotivführer
END:VEVENT
END:VCALENDAR
