BEGIN:VCALENDAR
VERSION:2.0
PRODID:-//Dampfbetrieb auf 600mm von Mitte April - Mitte Oktober | Verein S
 chinznacher Baumschulbahn//NONSGML kigkonsult.se iCalcreator 2.16.12//
METHOD:PUBLISH
X-MS-OLK-FORCEINSPECTOROPEN:TRUE
BEGIN:VEVENT
UID:20260420T143939CEST-4812hpgSL7@Dampfbetrieb auf 600mm von Mitte April -
  Mitte Oktober | Verein Schinznacher Baumschulbahn
DTSTAMP:20260420T123939Z
DESCRIPTION:Lernen Sie die Mitglieder des Vereins Schinznacher Baumschulbah
 n persönlich kennen und lassen Sie sich zeigen\, welche Arbeiten in einer 
 Werkstatt anfallen und was es alles braucht\, bis eine Lok revidiert und w
 iederhergestellt ist. Interessenten für eine Mitgliedschaft im Verein sind
  natürlich herzlich willkommen. Die Werkstatt-Führungen finden um 11.00\, 
 14.00 und 16.00 Uhr statt.
DTSTART:20180512T110000
DTEND:20180512T170000
ORGANIZER:MAILTO:Dampfbetrieb auf 600mm von Mitte April - Mitte Oktober | V
 erein Schinznacher Baumschulbahn <info@schbb.ch>
SUMMARY:Tag der Offenen Werkstatt
END:VEVENT
END:VCALENDAR
