BEGIN:VCALENDAR
VERSION:2.0
PRODID:-//Dampfbetrieb auf 600mm von Mitte April - Mitte Oktober | Verein S
 chinznacher Baumschulbahn//NONSGML kigkonsult.se iCalcreator 2.16.12//
METHOD:PUBLISH
X-MS-OLK-FORCEINSPECTOROPEN:TRUE
BEGIN:VEVENT
UID:20260420T144635CEST-6474vvW1Vv@Dampfbetrieb auf 600mm von Mitte April -
  Mitte Oktober | Verein Schinznacher Baumschulbahn
DTSTAMP:20260420T124635Z
DESCRIPTION:\n\n\n\n\nBrunchen nach Herzenslust\nFreuen Sie sich auf ein re
 ichhaltiges Zmorgebuffet: vom Butterzopf mit Konfi über gebratenen Speck\,
  Rösti\, Joghurt und Müesli bis zu Fleisch\, Käse\, Lachs\, frischen Früch
 ten und Getränken. En Guete!\n\nSpass für die Kinder\nIhre Kinder können s
 ich gleich neben dem Baumschul-Café auf dem gedeckten Spielplatz vergnügen
 . Ebenfalls vorhanden: Platz für Kinderwagen und ein Wickeltisch.\n\nDampf
  ablassen\nMit vollem Bauch geniessen Sie zu guter Letzt mit Ihren Lieben 
 eine gemütliche Fahrt mit der Baumschulbahn durch den schönen Park mit See
 .\n\nAlles in allem:\nBrunch\, Getränke und Tageskarte Baumschulbahn\nPrei
 s Erwachsene: Fr. 39.-\nPreis Kinder (3-12 Jahre): Fr. 12 .-\nUnbedingt re
 servieren! Die Teilnehmerzahl ist beschränkt\, buchen Sie darum rechtzeiti
 g.\n\nWir freuen uns auf tolle Familien-Sonntage mit Ihnen!\n\n\n\nDatum: 
    Sonntag 02. Juli 2017\nZeit:        10:00–13:30\nOrt:         Zulauf AG
 \, Baumschul-Café\n               Degerfeldstrasse 4\, 5107 Schinznach-Dor
 f\, Schweiz\nAnmeldung hier\n\n\n\n\n 
DTSTART:20170730T100000
DTEND:20170730T130000
ORGANIZER:MAILTO:Dampfbetrieb auf 600mm von Mitte April - Mitte Oktober | V
 erein Schinznacher Baumschulbahn <info@schbb.ch>
SUMMARY:Sonntagsbrunch mit Dampfbahnfahrt
END:VEVENT
END:VCALENDAR
