BEGIN:VCALENDAR
VERSION:2.0
PRODID:-//Dampfbetrieb auf 600mm von Mitte April - Mitte Oktober | Verein S
 chinznacher Baumschulbahn//NONSGML kigkonsult.se iCalcreator 2.16.12//
METHOD:PUBLISH
X-MS-OLK-FORCEINSPECTOROPEN:TRUE
BEGIN:VEVENT
UID:20260420T145954CEST-89634DwuSC@Dampfbetrieb auf 600mm von Mitte April -
  Mitte Oktober | Verein Schinznacher Baumschulbahn
DTSTAMP:20260420T125954Z
DESCRIPTION:Mit der Fahrkarte der Schinznacher Baumschulbahn können Sie für
  den 1/2 Preis den Bahnpark besuchen:\nNormalpreis:\nErwachsene: CHF 10\nJ
 ugendliche bis 18J. gratis
DTSTART:20161008T130000
DTEND:20161008T170000
ORGANIZER:MAILTO:Dampfbetrieb auf 600mm von Mitte April - Mitte Oktober | V
 erein Schinznacher Baumschulbahn <info@schbb.ch>
SUMMARY:Saisnonschluss mit dem Bahnpark Brugg AG
END:VEVENT
END:VCALENDAR
