BEGIN:VCALENDAR
VERSION:2.0
PRODID:-//Dampfbetrieb auf 600mm von Mitte April - Mitte Oktober | Verein S
 chinznacher Baumschulbahn//NONSGML kigkonsult.se iCalcreator 2.16.12//
METHOD:PUBLISH
X-MS-OLK-FORCEINSPECTOROPEN:TRUE
BEGIN:VEVENT
UID:20260420T131035CEST-7147uMhTbb@Dampfbetrieb auf 600mm von Mitte April -
  Mitte Oktober | Verein Schinznacher Baumschulbahn
DTSTAMP:20260420T111035Z
DESCRIPTION:Treffen Sie uns im Heimatmuseum Schinznach Dorf\nJeweils von 14
 .00 - 17.00 und besuchen Sie unsere Ausstellung.\n\n\n\n Prospekt Heimatmu
 seum
DTSTART:20160501T140000
DTEND:20160501T170000
LOCATION:Heimatmuseum
ORGANIZER:MAILTO:Dampfbetrieb auf 600mm von Mitte April - Mitte Oktober | V
 erein Schinznacher Baumschulbahn <info@schbb.ch>
SUMMARY:SchBB im Heimatmuseum
END:VEVENT
END:VCALENDAR
