BEGIN:VCALENDAR
VERSION:2.0
PRODID:-//Dampfbetrieb auf 600mm von Mitte April - Mitte Oktober | Verein S
 chinznacher Baumschulbahn//NONSGML kigkonsult.se iCalcreator 2.16.12//
METHOD:PUBLISH
X-MS-OLK-FORCEINSPECTOROPEN:TRUE
BEGIN:VEVENT
UID:20260420T130947CEST-740425lluC@Dampfbetrieb auf 600mm von Mitte April -
  Mitte Oktober | Verein Schinznacher Baumschulbahn
DTSTAMP:20260420T110947Z
DESCRIPTION:Alte Schuhe werden in neuer Funktion wiederbelebt! Die mitgebra
 chten alten Schuhe werden geputzt\, geschliffen und gestrichen. Und währen
 d die Farbe trocknet\, machen wir eine vergnügte Fahrt mit der Baumschulba
 hn. Am Schluss gehts ans Dekorieren mit tollen Pflanzen. Ein lustiger Bast
 elspass!\n\nPreis CHF 21.00.-\n\nPlatzzahl beschränkt.\nIm Preis inbegriff
 en sind Material- und Kurskosten und eine Bahnfahrt.\nDie Kinderkurse eign
 en sich für Kinder ab 6 Jahren (ohne Begleitung der Eltern).\n\nAnmeldung
 \n
DTSTART:20160427T140000
DTEND:20160427T160000
LOCATION:Schinznach-Dorf
ORGANIZER:MAILTO:Dampfbetrieb auf 600mm von Mitte April - Mitte Oktober | V
 erein Schinznacher Baumschulbahn <info@schbb.ch>
SUMMARY:Schuh-Recycling mit Bahnausflug
END:VEVENT
END:VCALENDAR
