BEGIN:VCALENDAR
VERSION:2.0
PRODID:-//Dampfbetrieb auf 600mm von Mitte April - Mitte Oktober | Verein S
 chinznacher Baumschulbahn//NONSGML kigkonsult.se iCalcreator 2.16.12//
METHOD:PUBLISH
X-MS-OLK-FORCEINSPECTOROPEN:TRUE
BEGIN:VEVENT
UID:20260420T131004CEST-5678vOnsfH@Dampfbetrieb auf 600mm von Mitte April -
  Mitte Oktober | Verein Schinznacher Baumschulbahn
DTSTAMP:20260420T111004Z
DESCRIPTION:Brunchen nach Herzenslust\nFreuen Sie sich auf ein reichhaltige
 s Zmorgebuffet: vom Butterzopf mit Konfi über gebratenen Speck\, Rösti\, J
 oghurt und Müesli bis zu Fleisch\, Käse\, Lachs\, frischen Früchten und Ge
 tränken. En Guete!\n\nSpass für die Kinder\nIhre Kinder können sich gleich
  neben dem Baumschul-Café auf dem gedeckten Spielplatz vergnügen. Ebenfall
 s vorhanden: Platz für Kinderwagen und ein Wickeltisch.\n\nDampf ablassen
 \nMit vollem Bauch geniessen Sie zu guter Letzt mit Ihren Lieben eine gemü
 tliche Fahrt mit der Baumschulbahn durch den schönen Park mit See.\n\nAlle
 s in allem:\nBrunch\, Getränke und Tageskarte Baumschulbahn\nPreis Erwachs
 ene: Fr. 39.-\nPreis Kinder (3-12 Jahre): Fr. 12 .-\nUnbedingt reservieren
 ! Die Teilnehmerzahl ist beschränkt\, buchen Sie darum rechtzeitig unter w
 ww.zulaufquelle.ch\n\n\nWir freuen uns auf tolle Familien-Sonntage mit Ihn
 en!\n
DTSTART:20160724T100000
DTEND:20160724T133000
LOCATION:Schinznach-Dorf
ORGANIZER:MAILTO:Dampfbetrieb auf 600mm von Mitte April - Mitte Oktober | V
 erein Schinznacher Baumschulbahn <info@schbb.ch>
SUMMARY:Sonntagsbrunch mit Dampfbahnfahrt
END:VEVENT
END:VCALENDAR
