BEGIN:VCALENDAR
VERSION:2.0
PRODID:-//Dampfbetrieb auf 600mm von Mitte April - Mitte Oktober | Verein S
 chinznacher Baumschulbahn//NONSGML kigkonsult.se iCalcreator 2.16.12//
METHOD:PUBLISH
X-MS-OLK-FORCEINSPECTOROPEN:TRUE
BEGIN:VEVENT
UID:20260420T130958CEST-6641VlxdVW@Dampfbetrieb auf 600mm von Mitte April -
  Mitte Oktober | Verein Schinznacher Baumschulbahn
DTSTAMP:20260420T110958Z
DESCRIPTION:Am Sonntag\, 8. Mai\, haben wir alle etwas zu feiern – unsere M
 ütter! Kommen Sie mit Ihren Familien zu uns und lassen Sie sich verwöhnen.
  Wir begrüssen Sie an diesem besonderen Tag mit einem Cüpli\, danach könne
 n Sie es sich gemütlich machen und ausgiebig tafeln\, und zum Schluss dreh
 en Sie noch eine Runde auf der Baumschulbahn!\nBrunchen nach Herzenslust\n
 Freuen Sie sich auf ein speziell reichhaltiges und festliches Zmorgebuffet
 : verschiedene Brote und Zopf\, pikante Leckereien wie Rauchlachs\, divers
 e Sorten Aufschnitt\, Speck und Rührei\, heisser Schinken und Kartoffelsal
 at bis hin zu frischen Früchten\, Joghurt\, Birchermüesli\, hausgemachten 
 Wähen und feinen Getränken. En Guete!\n\nSpass für die Kinder\nIhre Kinder
  und Enkelkinder können sich gleich neben dem Baumschul-Café auf dem gedec
 kten Spielplatz vergnügen.\n\nAlles in allem:\nBrunch\, Getränke und Tages
 karte Baumschulbahn\nPreis Erwachsene: Fr. 49.-\nPreis Kinder (3-12 Jahre)
 : Fr. 17 .-\nUnbedingt reservieren! Die Teilnehmerzahl ist beschränkt\, bu
 chen Sie darum rechtzeitig unter www.zulaufquelle.ch\n 
DTSTART:20160508T100000
DTEND:20160508T133000
LOCATION:Schinznach-Dorf
ORGANIZER:MAILTO:Dampfbetrieb auf 600mm von Mitte April - Mitte Oktober | V
 erein Schinznacher Baumschulbahn <info@schbb.ch>
SUMMARY:Muttertagsbrunch mit Dampfbahnfahrt
END:VEVENT
END:VCALENDAR
