BEGIN:VCALENDAR
VERSION:2.0
PRODID:-//Dampfbetrieb auf 600mm von Mitte April - Mitte Oktober | Verein S
 chinznacher Baumschulbahn//NONSGML kigkonsult.se iCalcreator 2.16.12//
METHOD:PUBLISH
X-MS-OLK-FORCEINSPECTOROPEN:TRUE
BEGIN:VEVENT
UID:20260420T130947CEST-1826098RtL@Dampfbetrieb auf 600mm von Mitte April -
  Mitte Oktober | Verein Schinznacher Baumschulbahn
DTSTAMP:20260420T110947Z
DESCRIPTION:Unsere Pflanzenparadiese sind am Sonntag\, 24. April und 1. Mai
  (in Liestal geschlossen) von 12 bis 17 Uhr geöffnet! Freuen Sie sich auf 
 herrlich viel Farbe\, Blüten\, Grün\, Werkzeug und Zubehör – und dazu viel
  Fachwissen und gutgelaunte Fachberater. Wir wünschen Ihnen viel Spass bei
 m Durchstreifen unserer frühlingshaften Pflanzenwelt. Ihr Garten wird sich
  freuen!
DTSTART:20160424T120000
DTEND:20160424T170000
LOCATION:Schinznach-Dorf
ORGANIZER:MAILTO:Dampfbetrieb auf 600mm von Mitte April - Mitte Oktober | V
 erein Schinznacher Baumschulbahn <info@schbb.ch>
SUMMARY:Sonntagsverkauf
END:VEVENT
END:VCALENDAR
